BEGIN:VCALENDAR
VERSION:2.0
PRODID:-//Smíšený sbor JITRO - ECPv6.15.20//NONSGML v1.0//EN
CALSCALE:GREGORIAN
METHOD:PUBLISH
X-WR-CALNAME:Smíšený sbor JITRO
X-ORIGINAL-URL:https://www.smisenejitro.cz
X-WR-CALDESC:Akce na Smíšený sbor JITRO
REFRESH-INTERVAL;VALUE=DURATION:PT1H
X-Robots-Tag:noindex
X-PUBLISHED-TTL:PT1H
BEGIN:VTIMEZONE
TZID:Europe/Prague
BEGIN:DAYLIGHT
TZOFFSETFROM:+0100
TZOFFSETTO:+0200
TZNAME:CEST
DTSTART:20250330T010000
END:DAYLIGHT
BEGIN:STANDARD
TZOFFSETFROM:+0200
TZOFFSETTO:+0100
TZNAME:CET
DTSTART:20251026T010000
END:STANDARD
BEGIN:DAYLIGHT
TZOFFSETFROM:+0100
TZOFFSETTO:+0200
TZNAME:CEST
DTSTART:20260329T010000
END:DAYLIGHT
BEGIN:STANDARD
TZOFFSETFROM:+0200
TZOFFSETTO:+0100
TZNAME:CET
DTSTART:20261025T010000
END:STANDARD
BEGIN:DAYLIGHT
TZOFFSETFROM:+0100
TZOFFSETTO:+0200
TZNAME:CEST
DTSTART:20270328T010000
END:DAYLIGHT
BEGIN:STANDARD
TZOFFSETFROM:+0200
TZOFFSETTO:+0100
TZNAME:CET
DTSTART:20271031T010000
END:STANDARD
END:VTIMEZONE
BEGIN:VEVENT
DTSTART;TZID=Europe/Prague:20260913T180000
DTEND;TZID=Europe/Prague:20260913T180000
DTSTAMP:20260425T234702
CREATED:20260408T195253Z
LAST-MODIFIED:20260408T195253Z
UID:12865-1789322400-1789322400@www.smisenejitro.cz
SUMMARY:Koncert Z pohádky do pohádky v Solnici
DESCRIPTION:
URL:https://www.smisenejitro.cz/udalost/koncert-z-pohadky-do-pohadky-v-solnici/
LOCATION:Společenský dům Solnice\, Družstevní 555\, Solnice\, 517 01\, Czech Republic
END:VEVENT
BEGIN:VEVENT
DTSTART;VALUE=DATE:20261129
DTEND;VALUE=DATE:20261130
DTSTAMP:20260425T234702
CREATED:20251019T200704Z
LAST-MODIFIED:20251019T200704Z
UID:12033-1795910400-1795996799@www.smisenejitro.cz
SUMMARY:Adventní koncert v Čáslavi
DESCRIPTION:
URL:https://www.smisenejitro.cz/udalost/adventni-koncert-v-caslavi/
END:VEVENT
BEGIN:VEVENT
DTSTART;TZID=Europe/Prague:20261220T080000
DTEND;TZID=Europe/Prague:20261220T170000
DTSTAMP:20260425T234702
CREATED:20251019T200744Z
LAST-MODIFIED:20260117T135847Z
UID:12035-1797753600-1797786000@www.smisenejitro.cz
SUMMARY:Adventní koncert v Hradci Králové
DESCRIPTION:
URL:https://www.smisenejitro.cz/udalost/adventni-koncert-v-hradci-kralove-4/
LOCATION:Evangelický kostel v Hradci Králové\, Nezvalova 529/1\, Hradec Králové\, 50003\, Česká republika
END:VEVENT
END:VCALENDAR